BEGIN:VCALENDAR
METHOD:PUBLISH
VERSION:2.0
CALSCALE:GREGORIAN
PRODID:-//NONSGML WPForms//NONSGML Sugar Calendar Feeds v3.11.0//EN
X-WR-CALNAME:BC Men’s Virtual Support Group
X-WR-CALDESC:Family Caregivers BC
X-WR-TIMEZONE:America/Vancouver
BEGIN:VTIMEZONE
TZID:America/Vancouver
BEGIN:STANDARD
TZOFFSETFROM:-0700
TZOFFSETTO:-0800
DTSTART:20201101T090000
TZNAME:PST
END:STANDARD
BEGIN:DAYLIGHT
TZOFFSETFROM:-0800
TZOFFSETTO:-0700
DTSTART:20210314T100000
TZNAME:PDT
END:DAYLIGHT
END:VTIMEZONE
BEGIN:VTIMEZONE
TZID:America/Vancouver
BEGIN:STANDARD
TZOFFSETFROM:-0700
TZOFFSETTO:-0800
DTSTART:20201101T090000
TZNAME:PST
END:STANDARD
BEGIN:DAYLIGHT
TZOFFSETFROM:-0800
TZOFFSETTO:-0700
DTSTART:20210314T100000
TZNAME:PDT
END:DAYLIGHT
END:VTIMEZONE
BEGIN:VEVENT
SUMMARY:BC Men’s Virtual Support Group
DESCRIPTION:This Virtual Caregiver Support Group is a space for men to c
 ome together to connect\, receive support and share experiences as careg
 ivers. Our group is led by experienced facilitators. You MUST pre-regis
 ter to join each session!\n\nOn the second Tuesday of each month from 7-
 8:30pm.\n\nYou MUST pre-register to join each session!\n\nRegister in ad
 vance here. (please use the Zoom link we have now for this group)\n\nYo
 u will get a password and instructions to join this Zoom Virtual Group. 
 Please note that when joining you can choose to share your first and las
 t name or create an anonymous username.
URL;VALUE=URI:https://www.familycaregiversbc.ca/events/bc-mens-virtual-s
 upport-group-6
UID:urn:uuid:de43ffcb-7614-4ef4-989f-6ae10eee1100
STATUS:CONFIRMED
ORGANIZER:
DTSTAMP:20260420T172000Z
DTSTART;TZID=America/Vancouver:20210413T190000
DTEND;TZID=America/Vancouver:20210413T203000
LOCATION:Zoom
END:VEVENT
END:VCALENDAR