BEGIN:VCALENDAR
METHOD:PUBLISH
VERSION:2.0
CALSCALE:GREGORIAN
PRODID:-//NONSGML WPForms//NONSGML Sugar Calendar Feeds v3.11.0//EN
X-WR-CALNAME:Caregivers Connect: BC’s Virtual Support Group
X-WR-CALDESC:Family Caregivers BC
X-WR-TIMEZONE:America/Vancouver
BEGIN:VTIMEZONE
TZID:America/Vancouver
BEGIN:STANDARD
TZOFFSETFROM:-0700
TZOFFSETTO:-0800
DTSTART:20201101T090000
TZNAME:PST
END:STANDARD
BEGIN:DAYLIGHT
TZOFFSETFROM:-0800
TZOFFSETTO:-0700
DTSTART:20210314T100000
TZNAME:PDT
END:DAYLIGHT
END:VTIMEZONE
BEGIN:VTIMEZONE
TZID:America/Vancouver
BEGIN:STANDARD
TZOFFSETFROM:-0700
TZOFFSETTO:-0800
DTSTART:20201101T090000
TZNAME:PST
END:STANDARD
BEGIN:DAYLIGHT
TZOFFSETFROM:-0800
TZOFFSETTO:-0700
DTSTART:20210314T100000
TZNAME:PDT
END:DAYLIGHT
END:VTIMEZONE
BEGIN:VEVENT
SUMMARY:Caregivers Connect: BC’s Virtual Support Group
DESCRIPTION:Our bi-weekly Caregivers Connect: BC’s Virtual Support Gro
 up\, brings people from across the province together around a mutual exp
 erience of caregiving for a family member or friend. This is a time for 
 reassurance\, where caregivers can realize they are not alone.\n\nYou MU
 ST pre-register to join each session!\n\nRegister in advance here.\n\nYo
 u will get a password and instructions to join the Zoom Virtual Group fo
 r Thursday 2-3:30 pm. Please note that when joining you can choose to sh
 are your first and last name or create an anonymous username.
URL;VALUE=URI:https://www.familycaregiversbc.ca/events/caregivers-connec
 t-bcs-virtual-support-group-12
UID:urn:uuid:9fce5d9d-e0e4-44fe-be0f-cd0be8d71e37
STATUS:CONFIRMED
ORGANIZER:
DTSTAMP:20260420T152243Z
DTSTART;TZID=America/Vancouver:20210408T140000
DTEND;TZID=America/Vancouver:20210408T153000
LOCATION:Zoom
END:VEVENT
END:VCALENDAR