BEGIN:VCALENDAR
METHOD:PUBLISH
VERSION:2.0
CALSCALE:GREGORIAN
PRODID:-//NONSGML WPForms//NONSGML Sugar Calendar Feeds v3.11.0//EN
X-WR-CALNAME:Circle of Care for Caregivers Training -  Spring 2021
X-WR-CALDESC:Family Caregivers BC
X-WR-TIMEZONE:America/Vancouver
BEGIN:VTIMEZONE
TZID:America/Vancouver
BEGIN:DAYLIGHT
TZOFFSETFROM:-0800
TZOFFSETTO:-0700
DTSTART:20210314T100000
TZNAME:PDT
END:DAYLIGHT
END:VTIMEZONE
BEGIN:VTIMEZONE
TZID:America/Vancouver
BEGIN:DAYLIGHT
TZOFFSETFROM:-0800
TZOFFSETTO:-0700
DTSTART:20210314T100000
TZNAME:PDT
END:DAYLIGHT
END:VTIMEZONE
BEGIN:VEVENT
SUMMARY:Circle of Care for Caregivers Training -  Spring 2021
DESCRIPTION:Facilitators: Lycia Rodrigues (FCBC Caregiver Support Lead)
 \, Stacey Dawes (FCBC Caregiver Engagement Lead).\n\nWho can participate
 ? We encourage staff and volunteers from community organizations who ha
 ve a caregiving support program to inquire and register for our Spring 2
 021 Cohort.\n\nWhat is the Circle of Care Program? The FCBC training in
  the Circles of Care (CoC) psychosocial intervention model provides a to
 ol to caregiver support staff and volunteers to strengthen and develop i
 nformal networks of support for family caregivers in BC. We expect a tot
 al of 20 participants. You will receive a detailed digital training manu
 al from FCBC after completing the sessions.\n\nWhat is the goal of the C
 ircle of Care Program? Our goal for this training is to increase inform
 al respite options for caregivers by increasing the community’s capaci
 ty to identify caregivers at risk of isolation and intervening effective
 ly by mobilizing informal supports. We hope that participants could cont
 ribute to decreasing social isolation for caregivers and caregiver distr
 ess.\n\nDates of Training: May 5th\, May 12th and May 19th 2021 from 10
 :00 AM to 12:30 PM (2.5 hour/module)\n\nHow to Register: Please click o
 n the Zoom link to fill out your name and email address to register. FCB
 C will verify your registration and you will then get a password and ins
 tructions to join this Zoom Virtual training.\n\nRegistration closes on 
 Thursday April 20th\, 2021\n\nhttps://us02web.zoom.us/meeting/register/t
 ZUkdemtqjMuE9R7D87sa4mVvaJ9MMgXR-jw
URL;VALUE=URI:https://www.familycaregiversbc.ca/events/fcbc-circle-of-ca
 re-for-caregivers-training-spring-2021
UID:urn:uuid:aaeeb0ab-4b60-4dc5-9dc6-e5758c9c92c0
STATUS:CONFIRMED
ORGANIZER:
DTSTAMP:20260420T153016Z
DTSTART;TZID=America/Vancouver:20210505T100000
DTEND;TZID=America/Vancouver:20210505T123000
RRULE:FREQ=WEEKLY;INTERVAL=1;UNTIL=20210526T000000Z
LOCATION:Zoom
END:VEVENT
END:VCALENDAR